BEGIN:VCALENDAR
VERSION:2.0
PRODID:icalendar-ruby
CALSCALE:GREGORIAN
METHOD:PUBLISH
BEGIN:VEVENT
DTSTAMP:20260421T082758Z
UID:037836ae-1081-475a-95d5-5b2bf045b557
DTSTART:20230225T060000
DTEND:20230225T150000
DESCRIPTION:<p>On 25 Feb 2023\, just 800 brave athletes will experience a t
 ruly world-class adventure in the heart of Johannesburg. Swim 600 m throug
 h the pristine waters of the Steyn City lagoon\, ride 30 km across the est
 ate’s expansive network of exhilarating trails and run 7 km of secure pa
 thways.</p><p>This year the event also offers a short distance option with
  a 300m swim\, a 15km mountain bike ride and a 3.5km run.</p><p>This is no
 t just an event\, it is a way of life. </p><p>Do not miss your chance to 
 be a part of this one-of-a-kind triathlon event. <a href="https://facesadv
 endurance.howler.co.za/events/auto-general-cross-triathlon-3fea/tickets" t
 arget="_blank">Enter Now!</a></p><p>For more information on the event refe
 r to the Auto and General CrossTriathlon <a href="https://www.crosstriathl
 on.co.za/" target="_blank">website.</a></p><p><br></p>
LOCATION:Steyn City 
SUMMARY:The Auto and General Cross Triathlon
URL;VALUE=URI:https://facesadvendurance.howler.co.za/xtri2023
END:VEVENT
END:VCALENDAR
